BEGIN:VCALENDAR
VERSION:2.0
PRODID:-//Metka - ECPv5.7.0//NONSGML v1.0//EN
CALSCALE:GREGORIAN
METHOD:PUBLISH
X-WR-CALNAME:Metka
X-ORIGINAL-URL:https://metka-sklep.pl
X-WR-CALDESC:Wydarzenia na Metka
BEGIN:VTIMEZONE
TZID:Europe/Warsaw
BEGIN:DAYLIGHT
TZOFFSETFROM:+0100
TZOFFSETTO:+0200
TZNAME:CEST
DTSTART:20250330T010000
END:DAYLIGHT
BEGIN:STANDARD
TZOFFSETFROM:+0200
TZOFFSETTO:+0100
TZNAME:CET
DTSTART:20251026T010000
END:STANDARD
END:VTIMEZONE
BEGIN:VEVENT
DTSTART;VALUE=DATE:20251215
DTEND;VALUE=DATE:20251217
DTSTAMP:20260420T141520
CREATED:20251208T075643Z
LAST-MODIFIED:20251208T075643Z
UID:4999-1765756800-1765929599@metka-sklep.pl
SUMMARY:-50%
DESCRIPTION:
URL:https://metka-sklep.pl/event/50-459/
END:VEVENT
END:VCALENDAR