BEGIN:VCALENDAR
VERSION:2.0
PRODID:-//Metka - ECPv5.7.0//NONSGML v1.0//EN
CALSCALE:GREGORIAN
METHOD:PUBLISH
X-WR-CALNAME:Metka
X-ORIGINAL-URL:https://metka-sklep.pl
X-WR-CALDESC:Wydarzenia na Metka
BEGIN:VTIMEZONE
TZID:Europe/Warsaw
BEGIN:DAYLIGHT
TZOFFSETFROM:+0100
TZOFFSETTO:+0200
TZNAME:CEST
DTSTART:20250330T010000
END:DAYLIGHT
BEGIN:STANDARD
TZOFFSETFROM:+0200
TZOFFSETTO:+0100
TZNAME:CET
DTSTART:20251026T010000
END:STANDARD
END:VTIMEZONE
BEGIN:VEVENT
DTSTART;VALUE=DATE:20250719
DTEND;VALUE=DATE:20250720
DTSTAMP:20260420T190714
CREATED:20250707T101345Z
LAST-MODIFIED:20250707T101345Z
UID:4789-1752883200-1752969599@metka-sklep.pl
SUMMARY:Nowa Dostawa
DESCRIPTION:
URL:https://metka-sklep.pl/event/nowa-dostawa-78/
END:VEVENT
END:VCALENDAR