BEGIN:VCALENDAR
VERSION:2.0
PRODID:-//Metka - ECPv5.7.0//NONSGML v1.0//EN
CALSCALE:GREGORIAN
METHOD:PUBLISH
X-WR-CALNAME:Metka
X-ORIGINAL-URL:https://metka-sklep.pl
X-WR-CALDESC:Wydarzenia na Metka
BEGIN:VTIMEZONE
TZID:Europe/Warsaw
BEGIN:DAYLIGHT
TZOFFSETFROM:+0100
TZOFFSETTO:+0200
TZNAME:CEST
DTSTART:20250330T010000
END:DAYLIGHT
BEGIN:STANDARD
TZOFFSETFROM:+0200
TZOFFSETTO:+0100
TZNAME:CET
DTSTART:20251026T010000
END:STANDARD
END:VTIMEZONE
BEGIN:VEVENT
DTSTART;VALUE=DATE:20251122
DTEND;VALUE=DATE:20251123
DTSTAMP:20260420T133301
CREATED:20251106T122901Z
LAST-MODIFIED:20251106T122901Z
UID:4963-1763769600-1763855999@metka-sklep.pl
SUMMARY:Nowa Zimowa Dostawa
DESCRIPTION:Świąteczna odzież i akcesoria
URL:https://metka-sklep.pl/event/nowa-zimowa-dostawa-10/
END:VEVENT
END:VCALENDAR