BEGIN:VCALENDAR
VERSION:2.0
PRODID:-//Metka - ECPv5.7.0//NONSGML v1.0//EN
CALSCALE:GREGORIAN
METHOD:PUBLISH
X-WR-CALNAME:Metka
X-ORIGINAL-URL:https://metka-sklep.pl
X-WR-CALDESC:Wydarzenia na Metka
BEGIN:VTIMEZONE
TZID:Europe/Warsaw
BEGIN:DAYLIGHT
TZOFFSETFROM:+0100
TZOFFSETTO:+0200
TZNAME:CEST
DTSTART:20250330T010000
END:DAYLIGHT
BEGIN:STANDARD
TZOFFSETFROM:+0200
TZOFFSETTO:+0100
TZNAME:CET
DTSTART:20251026T010000
END:STANDARD
END:VTIMEZONE
BEGIN:VEVENT
DTSTART;VALUE=DATE:20250228
DTEND;VALUE=DATE:20250301
DTSTAMP:20260421T023923
CREATED:20250217T085806Z
LAST-MODIFIED:20250217T085806Z
UID:4605-1740700800-1740787199@metka-sklep.pl
SUMMARY:sklep czynny do 15.00 (wymiana asortymentu)
DESCRIPTION:
URL:https://metka-sklep.pl/event/sklep-czynny-do-15-00-wymiana-asortymentu-62/
END:VEVENT
END:VCALENDAR