BEGIN:VCALENDAR
VERSION:2.0
PRODID:-//Metka - ECPv5.7.0//NONSGML v1.0//EN
CALSCALE:GREGORIAN
METHOD:PUBLISH
X-WR-CALNAME:Metka
X-ORIGINAL-URL:https://metka-sklep.pl
X-WR-CALDESC:Wydarzenia na Metka
BEGIN:VTIMEZONE
TZID:Europe/Warsaw
BEGIN:DAYLIGHT
TZOFFSETFROM:+0100
TZOFFSETTO:+0200
TZNAME:CEST
DTSTART:20250330T010000
END:DAYLIGHT
BEGIN:STANDARD
TZOFFSETFROM:+0200
TZOFFSETTO:+0100
TZNAME:CET
DTSTART:20251026T010000
END:STANDARD
END:VTIMEZONE
BEGIN:VEVENT
DTSTART;TZID=Europe/Warsaw:20250718T090000
DTEND;TZID=Europe/Warsaw:20250718T150000
DTSTAMP:20260420T204213
CREATED:20250707T101326Z
LAST-MODIFIED:20250707T101326Z
UID:4787-1752829200-1752850800@metka-sklep.pl
SUMMARY:sklep czynny do 15.00 (wymiana asortymentu)
DESCRIPTION:
URL:https://metka-sklep.pl/event/sklep-czynny-do-15-00-wymiana-asortymentu-68/
END:VEVENT
END:VCALENDAR